BEGIN:VCALENDAR
VERSION:2.0
PRODID:-//Wingham Town Hall Theatre - ECPv6.15.20//NONSGML v1.0//EN
CALSCALE:GREGORIAN
METHOD:PUBLISH
X-ORIGINAL-URL:https://winghamtownhalltheatre.ca
X-WR-CALDESC:Events for Wingham Town Hall Theatre
REFRESH-INTERVAL;VALUE=DURATION:PT1H
X-Robots-Tag:noindex
X-PUBLISHED-TTL:PT1H
BEGIN:VTIMEZONE
TZID:America/Toronto
BEGIN:DAYLIGHT
TZOFFSETFROM:-0500
TZOFFSETTO:-0400
TZNAME:EDT
DTSTART:20230312T070000
END:DAYLIGHT
BEGIN:STANDARD
TZOFFSETFROM:-0400
TZOFFSETTO:-0500
TZNAME:EST
DTSTART:20231105T060000
END:STANDARD
BEGIN:DAYLIGHT
TZOFFSETFROM:-0500
TZOFFSETTO:-0400
TZNAME:EDT
DTSTART:20240310T070000
END:DAYLIGHT
BEGIN:STANDARD
TZOFFSETFROM:-0400
TZOFFSETTO:-0500
TZNAME:EST
DTSTART:20241103T060000
END:STANDARD
BEGIN:DAYLIGHT
TZOFFSETFROM:-0500
TZOFFSETTO:-0400
TZNAME:EDT
DTSTART:20250309T070000
END:DAYLIGHT
BEGIN:STANDARD
TZOFFSETFROM:-0400
TZOFFSETTO:-0500
TZNAME:EST
DTSTART:20251102T060000
END:STANDARD
END:VTIMEZONE
BEGIN:VEVENT
DTSTART;TZID=America/Toronto:20240608T193000
DTEND;TZID=America/Toronto:20240608T213000
DTSTAMP:20260423T060127
CREATED:20240502T135842Z
LAST-MODIFIED:20240502T140342Z
UID:870-1717875000-1717882200@winghamtownhalltheatre.ca
SUMMARY:Amanda Keeles - Can't Stop Me Now Tour
DESCRIPTION:AMANDA KEELES blends country with pop sensibilities and a dash of classic rock to create her Can’t Stop Me Now album tour. Keeles’ reflective songwriting and powerhouse vocal dexterity take centre stage with self written originals\, high energy country covers and recognizable classic rock favourites. With multiple awards already to her name\, Keeles has twice taken the top spot in the Canadian Open Songwriting Contest\, featured on SiriusXM Canada’s Top of the Country\, and has been added to commercial Country radio across Canada\, the US\, Australia and the UK. Named as CMA Ontario’s Artist of the Month\, she has appeared on Canada Coast to Coast as well as international entertainment and music news podcasts. \nHer band consists of some of the best musicians in the industry\, with Scott Szeryk (lead guitar)\, Brian McHugh (drums)\, James Vermue (Bass) and Shem Jacob (rythmn/acoustic guitar) each having toured individually throughout Canada\, the US and Europe\, opening for big shows such as Blake Shelton\, Lonestar and Kim Mitchell. \nYou won’t want to miss this outstanding group of musicians as Amanda Keeles brings Can’t Stop Me Now to the Wingham Town Hall with special guest singer-songwriter JESSICA SOLE. \nDoors open at 7:00pm.  Show starts at 7:30pm. \nPurchase your tickets online: Eventbrite \nTickets $22.60 (tax included)
URL:https://winghamtownhalltheatre.ca/event/amanda-keeles-cant-stop-me-now-tour/
LOCATION:Wingham Town Hall Theatre\, 274 Josephine Street\, Wingham\, Ontario\, N0G 2W0\, Canada
ATTACH;FMTTYPE=image/png:https://winghamtownhalltheatre.ca/wp-content/uploads/2024/05/Amanda-Keeles.png
ORGANIZER;CN="Fifth Note Entertainment":MAILTO:Amandakeeles@outlook.com
END:VEVENT
BEGIN:VEVENT
DTSTART;TZID=America/Toronto:20240623T133000
DTEND;TZID=America/Toronto:20240623T153000
DTSTAMP:20260423T060127
CREATED:20240502T141930Z
LAST-MODIFIED:20240502T142058Z
UID:877-1719149400-1719156600@winghamtownhalltheatre.ca
SUMMARY:Barn Dance Farewell Concert - SOLD OUT
DESCRIPTION:SOLD OUT \nThe Barn Dance Historical Society presents the Farewell Concert of Canada’s Largest Travelling Barn Dance. \nLots of great county music and special presentations. \nFeaturing: Larry Mercery\, Marie Bottrell\, Naomi Bristow\, Crystal Gage\, Paul Weber and Many Others. \nTickets: $40 per person. Email: bax761@gmail.com or phone 519-357-6598 \nDinner available after the show at Wingham Columbus Centre. $25 per person. Contact 519-357-1270 for Dinner Tickets and details.
URL:https://winghamtownhalltheatre.ca/event/barn-dance-farewell-concert-sold-out/
LOCATION:Wingham Town Hall Theatre\, 274 Josephine Street\, Wingham\, Ontario\, N0G 2W0\, Canada
ATTACH;FMTTYPE=image/png:https://winghamtownhalltheatre.ca/wp-content/uploads/2024/05/Barn-Dance.png
ORGANIZER;CN="Barn Dance Historical Society":MAILTO:bax761@gmail.com
END:VEVENT
END:VCALENDAR